Package: phyloseq Version: 1.50.0 Command: /home/biocbuild/bbs-3.20-bioc/R/bin/R CMD INSTALL phyloseq StartedAt: 2025-02-03 15:55:09 -0500 (Mon, 03 Feb 2025) EndedAt: 2025-02-03 15:55:36 -0500 (Mon, 03 Feb 2025) EllapsedTime: 27.7 seconds RetCode: 0 Status: OK