Package: phyloseq Version: 1.50.0 Command: /home/biocbuild/R/R/bin/R CMD INSTALL phyloseq StartedAt: 2025-02-03 21:09:51 -0000 (Mon, 03 Feb 2025) EndedAt: 2025-02-03 21:10:24 -0000 (Mon, 03 Feb 2025) EllapsedTime: 33.1 seconds RetCode: 0 Status: OK