Package: piano Version: 2.22.0 Command: _R_CHECK_FORCE_SUGGESTS_=0 /Library/Frameworks/R.framework/Resources/bin/R CMD check --install=check:piano.install-out.txt --library=/Library/Frameworks/R.framework/Resources/library --no-vignettes --timings piano_2.22.0.tar.gz StartedAt: 2025-02-01 04:43:27 -0500 (Sat, 01 Feb 2025) EndedAt: 2025-02-01 04:45:34 -0500 (Sat, 01 Feb 2025) EllapsedTime: 127.1 seconds RetCode: 0 Status: OK CheckDir: piano.Rcheck Warnings: 0