Package: piano Version: 2.22.0 Command: /Library/Frameworks/R.framework/Resources/bin/R CMD INSTALL piano StartedAt: 2025-01-30 17:11:15 -0500 (Thu, 30 Jan 2025) EndedAt: 2025-01-30 17:11:32 -0500 (Thu, 30 Jan 2025) EllapsedTime: 16.7 seconds RetCode: 0 Status: OK