Package: piano Version: 2.22.0 Command: rm -rf piano.buildbin-libdir && mkdir piano.buildbin-libdir && /Users/biocbuild/BBS/utils/build-universal.sh piano_2.22.0.tar.gz /Library/Frameworks/R.framework/Resources/bin/R piano.buildbin-libdir StartedAt: 2025-02-04 13:47:06 -0500 (Tue, 04 Feb 2025) EndedAt: 2025-02-04 13:48:17 -0500 (Tue, 04 Feb 2025) EllapsedTime: 70.7 seconds RetCode: 0 Status: OK PackageFile: piano_2.22.0.tgz PackageFileSize: 1.642 MiB