Package: piano Version: 2.22.0 Command: /Library/Frameworks/R.framework/Resources/bin/R CMD build --keep-empty-dirs --no-resave-data piano StartedAt: 2025-02-03 21:17:48 -0500 (Mon, 03 Feb 2025) EndedAt: 2025-02-03 21:19:32 -0500 (Mon, 03 Feb 2025) EllapsedTime: 103.9 seconds RetCode: 0 Status: OK PackageFile: piano_2.22.0.tar.gz PackageFileSize: 1.542 MiB