Package: piano Version: 2.22.0 Command: /Library/Frameworks/R.framework/Resources/bin/R CMD INSTALL piano StartedAt: 2025-02-03 16:16:39 -0500 (Mon, 03 Feb 2025) EndedAt: 2025-02-03 16:17:13 -0500 (Mon, 03 Feb 2025) EllapsedTime: 34.1 seconds RetCode: 0 Status: OK