Package: piano Version: 2.22.0 Command: /home/biocbuild/bbs-3.20-bioc/R/bin/R CMD build --keep-empty-dirs --no-resave-data --md5 piano StartedAt: 2025-01-30 18:34:50 -0500 (Thu, 30 Jan 2025) EndedAt: 2025-01-30 18:35:25 -0500 (Thu, 30 Jan 2025) EllapsedTime: 35.1 seconds RetCode: 0 Status: OK PackageFile: piano_2.22.0.tar.gz PackageFileSize: 1.545 MiB