Package: piano Version: 2.22.0 Command: /home/biocbuild/bbs-3.20-bioc/R/bin/R CMD INSTALL piano StartedAt: 2025-01-30 15:42:32 -0500 (Thu, 30 Jan 2025) EndedAt: 2025-01-30 15:42:52 -0500 (Thu, 30 Jan 2025) EllapsedTime: 20.1 seconds RetCode: 0 Status: OK