Package: piano Version: 2.22.0 Command: /home/biocbuild/R/R/bin/R CMD check --install=check:piano.install-out.txt --library=/home/biocbuild/R/R/site-library --no-vignettes --timings piano_2.22.0.tar.gz StartedAt: 2025-01-31 09:08:50 -0000 (Fri, 31 Jan 2025) EndedAt: 2025-01-31 09:08:54 -0000 (Fri, 31 Jan 2025) EllapsedTime: 4.0 seconds RetCode: 1 Status: ERROR CheckDir: piano.Rcheck Warnings: NA