Package: pickgene Version: 1.78.0 Command: /Library/Frameworks/R.framework/Resources/bin/R CMD build --keep-empty-dirs --no-resave-data pickgene StartedAt: 2025-02-04 05:32:50 -0500 (Tue, 04 Feb 2025) EndedAt: 2025-02-04 05:32:59 -0500 (Tue, 04 Feb 2025) EllapsedTime: 9.1 seconds RetCode: 0 Status: OK PackageFile: pickgene_1.78.0.tar.gz PackageFileSize: 305.3 KiB