Package: pickgene Version: 1.78.0 Command: /Library/Frameworks/R.framework/Resources/bin/R CMD check --install=check:pickgene.install-out.txt --library=/Library/Frameworks/R.framework/Resources/library --no-vignettes --timings pickgene_1.78.0.tar.gz StartedAt: 2025-02-05 05:29:39 -0500 (Wed, 05 Feb 2025) EndedAt: 2025-02-05 05:30:09 -0500 (Wed, 05 Feb 2025) EllapsedTime: 29.6 seconds RetCode: 0 Status: WARNINGS CheckDir: pickgene.Rcheck Warnings: 1