Package: pickgene Version: 1.78.0 Command: /Library/Frameworks/R.framework/Resources/bin/R CMD build --keep-empty-dirs --no-resave-data pickgene StartedAt: 2025-02-03 21:18:02 -0500 (Mon, 03 Feb 2025) EndedAt: 2025-02-03 21:18:19 -0500 (Mon, 03 Feb 2025) EllapsedTime: 17.7 seconds RetCode: 0 Status: OK PackageFile: pickgene_1.78.0.tar.gz PackageFileSize: 305.4 KiB