Package: pickgene Version: 1.78.0 Command: /Library/Frameworks/R.framework/Resources/bin/R CMD check --install=check:pickgene.install-out.txt --library=/Library/Frameworks/R.framework/Resources/library --no-vignettes --timings pickgene_1.78.0.tar.gz StartedAt: 2025-02-04 07:59:20 -0500 (Tue, 04 Feb 2025) EndedAt: 2025-02-04 08:00:10 -0500 (Tue, 04 Feb 2025) EllapsedTime: 50.4 seconds RetCode: 0 Status: WARNINGS CheckDir: pickgene.Rcheck Warnings: 1