Package: pickgene Version: 1.78.0 Command: /home/biocbuild/bbs-3.20-bioc/R/bin/R CMD check --install=check:pickgene.install-out.txt --library=/home/biocbuild/bbs-3.20-bioc/R/site-library --timings pickgene_1.78.0.tar.gz StartedAt: 2025-02-04 01:13:51 -0500 (Tue, 04 Feb 2025) EndedAt: 2025-02-04 01:14:13 -0500 (Tue, 04 Feb 2025) EllapsedTime: 22.0 seconds RetCode: 0 Status: WARNINGS CheckDir: pickgene.Rcheck Warnings: 1