Package: pickgene
Version: 1.77.0
Command: C:\Users\biocbuild\bbs-3.20-bioc\R\bin\R.exe CMD check --no-multiarch --install=check:pickgene.install-out.txt --library=C:\Users\biocbuild\bbs-3.20-bioc\R\library --no-vignettes --timings pickgene_1.77.0.tar.gz
StartedAt: 2024-07-16 02:45:24 -0400 (Tue, 16 Jul 2024)
EndedAt: 2024-07-16 02:45:55 -0400 (Tue, 16 Jul 2024)
EllapsedTime: 31.5 seconds
RetCode: 0
Status: WARNINGS
CheckDir: pickgene.Rcheck
Warnings: 1