Package: pickgene Version: 1.78.0 Command: rm -rf pickgene.buildbin-libdir && mkdir pickgene.buildbin-libdir && F:\biocbuild\bbs-3.20-bioc\R\bin\R.exe CMD INSTALL --build --library=pickgene.buildbin-libdir pickgene_1.78.0.tar.gz StartedAt: 2025-02-04 09:10:52 -0500 (Tue, 04 Feb 2025) EndedAt: 2025-02-04 09:11:07 -0500 (Tue, 04 Feb 2025) EllapsedTime: 15.3 seconds RetCode: 0 Status: OK PackageFile: pickgene_1.78.0.zip PackageFileSize: 293.6 KiB