Package: pickgene Version: 1.78.0 Command: chmod a+r pickgene -R && F:\biocbuild\bbs-3.20-bioc\R\bin\R.exe CMD build --keep-empty-dirs --no-resave-data pickgene StartedAt: 2025-02-03 21:14:35 -0500 (Mon, 03 Feb 2025) EndedAt: 2025-02-03 21:14:53 -0500 (Mon, 03 Feb 2025) EllapsedTime: 17.3 seconds RetCode: 0 Status: OK PackageFile: pickgene_1.78.0.tar.gz PackageFileSize: 196.4 KiB