Package: pickgene Version: 1.78.0 Command: F:\biocbuild\bbs-3.20-bioc\R\bin\R.exe CMD INSTALL pickgene StartedAt: 2025-02-03 15:32:49 -0500 (Mon, 03 Feb 2025) EndedAt: 2025-02-03 15:33:16 -0500 (Mon, 03 Feb 2025) EllapsedTime: 26.9 seconds RetCode: 0 Status: OK