Package: pipeFrame Version: 1.22.0 Command: /Library/Frameworks/R.framework/Resources/bin/R CMD INSTALL pipeFrame StartedAt: 2025-02-03 16:29:36 -0500 (Mon, 03 Feb 2025) EndedAt: 2025-02-03 16:30:16 -0500 (Mon, 03 Feb 2025) EllapsedTime: 40.1 seconds RetCode: 0 Status: OK