Package: pipeFrame Version: 1.22.0 Command: /Library/Frameworks/R.framework/Resources/bin/R CMD build --keep-empty-dirs --no-resave-data pipeFrame StartedAt: 2025-02-03 21:18:26 -0500 (Mon, 03 Feb 2025) EndedAt: 2025-02-03 21:20:35 -0500 (Mon, 03 Feb 2025) EllapsedTime: 128.6 seconds RetCode: 0 Status: OK PackageFile: pipeFrame_1.22.0.tar.gz PackageFileSize: 1.195 MiB