Package: pipeFrame Version: 1.22.0 Command: /Library/Frameworks/R.framework/Resources/bin/R CMD INSTALL pipeFrame StartedAt: 2025-02-03 15:58:41 -0500 (Mon, 03 Feb 2025) EndedAt: 2025-02-03 15:59:51 -0500 (Mon, 03 Feb 2025) EllapsedTime: 70.2 seconds RetCode: 0 Status: OK