Package: pipeFrame
Version: 1.22.0
Command: rm -rf pipeFrame.buildbin-libdir && mkdir pipeFrame.buildbin-libdir && F:\biocbuild\bbs-3.20-bioc\R\bin\R.exe CMD INSTALL --build --library=pipeFrame.buildbin-libdir pipeFrame_1.22.0.tar.gz
StartedAt: 2025-02-18 08:46:47 -0500 (Tue, 18 Feb 2025)
EndedAt: 2025-02-18 08:48:10 -0500 (Tue, 18 Feb 2025)
EllapsedTime: 82.8 seconds
RetCode: 0
Status: OK
PackageFile: pipeFrame_1.22.0.zip
PackageFileSize: 1.08 <A href="http://en.wikipedia.org/wiki/MiB" target="_blank">MiB</A>