Package: planet Version: 1.14.0 Command: /Library/Frameworks/R.framework/Resources/bin/R CMD build --keep-empty-dirs --no-resave-data planet StartedAt: 2025-02-04 05:35:11 -0500 (Tue, 04 Feb 2025) EndedAt: 2025-02-04 05:35:46 -0500 (Tue, 04 Feb 2025) EllapsedTime: 34.9 seconds RetCode: 0 Status: OK PackageFile: planet_1.14.0.tar.gz PackageFileSize: 2.791 MiB