Package: planet Version: 1.14.0 Command: /Library/Frameworks/R.framework/Resources/bin/R CMD INSTALL planet StartedAt: 2025-02-03 15:18:47 -0500 (Mon, 03 Feb 2025) EndedAt: 2025-02-03 15:18:51 -0500 (Mon, 03 Feb 2025) EllapsedTime: 3.9 seconds RetCode: 0 Status: OK