Package: planet Version: 1.14.0 Command: /Library/Frameworks/R.framework/Resources/bin/R CMD build --keep-empty-dirs --no-resave-data planet StartedAt: 2025-01-30 21:52:09 -0500 (Thu, 30 Jan 2025) EndedAt: 2025-01-30 21:53:12 -0500 (Thu, 30 Jan 2025) EllapsedTime: 62.3 seconds RetCode: 0 Status: OK PackageFile: planet_1.14.0.tar.gz PackageFileSize: 2.791 MiB