Package: planet Version: 1.14.0 Command: /home/biocbuild/bbs-3.20-bioc/R/bin/R CMD check --install=check:planet.install-out.txt --library=/home/biocbuild/bbs-3.20-bioc/R/site-library --timings planet_1.14.0.tar.gz StartedAt: 2025-02-04 01:15:44 -0500 (Tue, 04 Feb 2025) EndedAt: 2025-02-04 01:16:37 -0500 (Tue, 04 Feb 2025) EllapsedTime: 53.1 seconds RetCode: 0 Status: OK CheckDir: planet.Rcheck Warnings: 0