Package: planet Version: 1.14.0 Command: /home/biocbuild/bbs-3.20-bioc/R/bin/R CMD INSTALL planet StartedAt: 2025-02-03 15:16:30 -0500 (Mon, 03 Feb 2025) EndedAt: 2025-02-03 15:16:40 -0500 (Mon, 03 Feb 2025) EllapsedTime: 9.2 seconds RetCode: 0 Status: OK