Package: planet Version: 1.14.0 Command: chmod a+r planet -R && F:\biocbuild\bbs-3.20-bioc\R\bin\R.exe CMD build --keep-empty-dirs --no-resave-data planet StartedAt: 2025-01-30 21:00:06 -0500 (Thu, 30 Jan 2025) EndedAt: 2025-01-30 21:00:55 -0500 (Thu, 30 Jan 2025) EllapsedTime: 48.5 seconds RetCode: 0 Status: OK PackageFile: planet_1.14.0.tar.gz PackageFileSize: 2.685 MiB