Package: planet Version: 1.14.0 Command: /home/biocbuild/R/R/bin/R CMD check --install=check:planet.install-out.txt --library=/home/biocbuild/R/R/site-library --no-vignettes --timings planet_1.14.0.tar.gz StartedAt: 2025-01-31 09:10:34 -0000 (Fri, 31 Jan 2025) EndedAt: 2025-01-31 09:11:10 -0000 (Fri, 31 Jan 2025) EllapsedTime: 36.0 seconds RetCode: 0 Status: OK CheckDir: planet.Rcheck Warnings: 0