Package: planttfhunter Version: 1.6.0 Command: /Library/Frameworks/R.framework/Resources/bin/R CMD check --install=check:planttfhunter.install-out.txt --library=/Library/Frameworks/R.framework/Resources/library --no-vignettes --timings planttfhunter_1.6.0.tar.gz StartedAt: 2025-02-05 05:37:07 -0500 (Wed, 05 Feb 2025) EndedAt: 2025-02-05 05:40:12 -0500 (Wed, 05 Feb 2025) EllapsedTime: 185.5 seconds RetCode: 0 Status: OK CheckDir: planttfhunter.Rcheck Warnings: 0