Package: planttfhunter Version: 1.6.0 Command: rm -rf planttfhunter.buildbin-libdir && mkdir planttfhunter.buildbin-libdir && /Users/biocbuild/BBS/utils/build-universal.sh planttfhunter_1.6.0.tar.gz /Library/Frameworks/R.framework/Resources/bin/R planttfhunter.buildbin-libdir StartedAt: 2025-02-04 13:48:13 -0500 (Tue, 04 Feb 2025) EndedAt: 2025-02-04 13:49:32 -0500 (Tue, 04 Feb 2025) EllapsedTime: 79.5 seconds RetCode: 0 Status: OK PackageFile: planttfhunter_1.6.0.tgz PackageFileSize: 1.002 MiB