Package: planttfhunter Version: 1.6.0 Command: /Library/Frameworks/R.framework/Resources/bin/R CMD build --keep-empty-dirs --no-resave-data planttfhunter StartedAt: 2025-02-03 21:18:56 -0500 (Mon, 03 Feb 2025) EndedAt: 2025-02-03 21:20:17 -0500 (Mon, 03 Feb 2025) EllapsedTime: 80.8 seconds RetCode: 0 Status: OK PackageFile: planttfhunter_1.6.0.tar.gz PackageFileSize: 991.6 KiB