Package: planttfhunter Version: 1.6.0 Command: /home/biocbuild/bbs-3.20-bioc/R/bin/R CMD build --keep-empty-dirs --no-resave-data --md5 planttfhunter StartedAt: 2025-02-03 18:44:57 -0500 (Mon, 03 Feb 2025) EndedAt: 2025-02-03 18:45:29 -0500 (Mon, 03 Feb 2025) EllapsedTime: 32.0 seconds RetCode: 0 Status: OK PackageFile: planttfhunter_1.6.0.tar.gz PackageFileSize: 993.2 KiB