Package: planttfhunter Version: 1.6.0 Command: /home/biocbuild/bbs-3.20-bioc/R/bin/R CMD INSTALL planttfhunter StartedAt: 2025-01-30 15:11:37 -0500 (Thu, 30 Jan 2025) EndedAt: 2025-01-30 15:11:58 -0500 (Thu, 30 Jan 2025) EllapsedTime: 21.7 seconds RetCode: 0 Status: OK