Package: planttfhunter Version: 1.6.0 Command: rm -rf planttfhunter.buildbin-libdir && mkdir planttfhunter.buildbin-libdir && F:\biocbuild\bbs-3.20-bioc\R\bin\R.exe CMD INSTALL --build --library=planttfhunter.buildbin-libdir planttfhunter_1.6.0.tar.gz StartedAt: 2025-01-31 09:17:33 -0500 (Fri, 31 Jan 2025) EndedAt: 2025-01-31 09:18:19 -0500 (Fri, 31 Jan 2025) EllapsedTime: 46.6 seconds RetCode: 0 Status: OK PackageFile: planttfhunter_1.6.0.zip PackageFileSize: 1019 KiB