Package: planttfhunter Version: 1.6.0 Command: F:\biocbuild\bbs-3.20-bioc\R\bin\R.exe CMD INSTALL planttfhunter StartedAt: 2025-01-30 15:56:50 -0500 (Thu, 30 Jan 2025) EndedAt: 2025-01-30 15:57:24 -0500 (Thu, 30 Jan 2025) EllapsedTime: 33.6 seconds RetCode: 0 Status: OK