Package: planttfhunter Version: 1.6.0 Command: /home/biocbuild/R/R/bin/R CMD build --keep-empty-dirs --no-resave-data planttfhunter StartedAt: 2025-02-04 01:52:14 -0000 (Tue, 04 Feb 2025) EndedAt: 2025-02-04 01:52:54 -0000 (Tue, 04 Feb 2025) EllapsedTime: 40.0 seconds RetCode: 0 Status: OK PackageFile: planttfhunter_1.6.0.tar.gz PackageFileSize: 1015 KiB