Package: planttfhunter Version: 1.6.0 Command: /home/biocbuild/R/R/bin/R CMD INSTALL planttfhunter StartedAt: 2025-02-03 20:31:28 -0000 (Mon, 03 Feb 2025) EndedAt: 2025-02-03 20:31:56 -0000 (Mon, 03 Feb 2025) EllapsedTime: 28.1 seconds RetCode: 0 Status: OK