Package: plasmut Version: 1.4.0 Command: /Library/Frameworks/R.framework/Resources/bin/R CMD build --keep-empty-dirs --no-resave-data plasmut StartedAt: 2025-02-03 21:18:59 -0500 (Mon, 03 Feb 2025) EndedAt: 2025-02-03 21:23:22 -0500 (Mon, 03 Feb 2025) EllapsedTime: 263.7 seconds RetCode: 0 Status: OK PackageFile: plasmut_1.4.0.tar.gz PackageFileSize: 337.9 KiB