Package: plasmut Version: 1.4.0 Command: /Library/Frameworks/R.framework/Resources/bin/R CMD INSTALL plasmut StartedAt: 2025-02-03 15:16:44 -0500 (Mon, 03 Feb 2025) EndedAt: 2025-02-03 15:17:00 -0500 (Mon, 03 Feb 2025) EllapsedTime: 16.4 seconds RetCode: 0 Status: OK