Package: plgem Version: 1.78.0 Command: /home/biocbuild/bbs-3.20-bioc/R/bin/R CMD build --keep-empty-dirs --no-resave-data --md5 plgem StartedAt: 2025-02-03 18:44:59 -0500 (Mon, 03 Feb 2025) EndedAt: 2025-02-03 18:45:13 -0500 (Mon, 03 Feb 2025) EllapsedTime: 14.0 seconds RetCode: 0 Status: OK PackageFile: plgem_1.78.0.tar.gz PackageFileSize: 1.038 MiB