Package: plier Version: 1.76.0 Command: /Library/Frameworks/R.framework/Resources/bin/R CMD INSTALL plier StartedAt: 2025-01-30 15:09:41 -0500 (Thu, 30 Jan 2025) EndedAt: 2025-01-30 15:09:47 -0500 (Thu, 30 Jan 2025) EllapsedTime: 6.7 seconds RetCode: 0 Status: OK