Package: plier Version: 1.76.0 Command: rm -rf plier.buildbin-libdir && mkdir plier.buildbin-libdir && /Users/biocbuild/BBS/utils/build-universal.sh plier_1.76.0.tar.gz /Library/Frameworks/R.framework/Resources/bin/R plier.buildbin-libdir StartedAt: 2025-01-31 13:23:40 -0500 (Fri, 31 Jan 2025) EndedAt: 2025-01-31 13:23:53 -0500 (Fri, 31 Jan 2025) EllapsedTime: 13.2 seconds RetCode: 0 Status: OK PackageFile: plier_1.76.0.tgz PackageFileSize: 43.28 KiB