Package: plier Version: 1.76.0 Command: /Library/Frameworks/R.framework/Resources/bin/R CMD build --keep-empty-dirs --no-resave-data plier StartedAt: 2025-01-30 21:52:28 -0500 (Thu, 30 Jan 2025) EndedAt: 2025-01-30 21:52:30 -0500 (Thu, 30 Jan 2025) EllapsedTime: 2.0 seconds RetCode: 0 Status: OK PackageFile: plier_1.76.0.tar.gz PackageFileSize: 20.33 KiB