Package: plier Version: 1.76.0 Command: /Library/Frameworks/R.framework/Resources/bin/R CMD check --install=check:plier.install-out.txt --library=/Library/Frameworks/R.framework/Resources/library --no-vignettes --timings plier_1.76.0.tar.gz StartedAt: 2025-01-31 08:07:42 -0500 (Fri, 31 Jan 2025) EndedAt: 2025-01-31 08:08:37 -0500 (Fri, 31 Jan 2025) EllapsedTime: 55.3 seconds RetCode: 0 Status: WARNINGS CheckDir: plier.Rcheck Warnings: 1