Package: plier Version: 1.76.0 Command: /home/biocbuild/bbs-3.20-bioc/R/bin/R CMD check --install=check:plier.install-out.txt --library=/home/biocbuild/bbs-3.20-bioc/R/site-library --timings plier_1.76.0.tar.gz StartedAt: 2025-01-31 01:05:43 -0500 (Fri, 31 Jan 2025) EndedAt: 2025-01-31 01:06:05 -0500 (Fri, 31 Jan 2025) EllapsedTime: 22.0 seconds RetCode: 0 Status: WARNINGS CheckDir: plier.Rcheck Warnings: 1