Package: plier Version: 1.76.0 Command: /home/biocbuild/bbs-3.20-bioc/R/bin/R CMD INSTALL plier StartedAt: 2025-01-30 15:06:42 -0500 (Thu, 30 Jan 2025) EndedAt: 2025-01-30 15:06:50 -0500 (Thu, 30 Jan 2025) EllapsedTime: 7.4 seconds RetCode: 0 Status: OK