Package: plier Version: 1.76.0 Command: chmod a+r plier -R && F:\biocbuild\bbs-3.20-bioc\R\bin\R.exe CMD build --keep-empty-dirs --no-resave-data plier StartedAt: 2025-01-30 21:00:56 -0500 (Thu, 30 Jan 2025) EndedAt: 2025-01-30 21:01:00 -0500 (Thu, 30 Jan 2025) EllapsedTime: 4.4 seconds RetCode: 0 Status: OK PackageFile: plier_1.76.0.tar.gz PackageFileSize: 20.31 KiB