Package: plier Version: 1.76.0 Command: F:\biocbuild\bbs-3.20-bioc\R\bin\R.exe CMD INSTALL plier StartedAt: 2025-01-30 15:25:11 -0500 (Thu, 30 Jan 2025) EndedAt: 2025-01-30 15:25:21 -0500 (Thu, 30 Jan 2025) EllapsedTime: 10.4 seconds RetCode: 0 Status: OK